BEGIN:VCALENDAR
VERSION:2.0
PRODID:-//ExpressionEngine Easy iCalendar plugin//NONSGML v1.1.1//EN
BEGIN:VEVENT
UID:event
LOCATION:Italian Academy
DTSTAMP:20210221T33700Z
DTSTART;TZID=America/New_York:20111208T90000
DTEND;TZID=America/New_York:20111208T140000
SUMMARY:The Athens Dialogues—a conference
DESCRIPTION:This conference will feature Mark Mazower\, Simon Critchley\, 
 Andreas Kalyvas\, Nadia Urbinati\, Stathis Gourgouris\, Philipp
 e Bourgois\, Konstantinos Drossatos\, Elisabeth Young-Bruehl\, 
 Karen Van Dyck\, Helene Foley\, Peter Meineck\, and Gregory Nag
 y.
END:VEVENT
END:VCALENDAR