BEGIN:VCALENDAR
VERSION:2.0
PRODID:-//ExpressionEngine Easy iCalendar plugin//NONSGML v1.1.1//EN
BEGIN:VEVENT
UID:event
LOCATION:Low Memorial Library\, Faculty Room
DTSTAMP:20210221T33100Z
DTSTART;TZID=America/New_York:20181213T160000
DTEND;TZID=America/New_York:
SUMMARY:Celebration of the Life and Work of Steven Marcus
DESCRIPTION:A memorial for former Dean of the College Steven P. Marcus â
 €™48\, GSASâ€™61\, who died on April 25\, 2018\, will be held on
  Thursday\, December 13\, at 4 p.m. in the Faculty Room of Low
  Library. All are welcome.
END:VEVENT
END:VCALENDAR