BEGIN:VCALENDAR
VERSION:2.0
PRODID:-//ExpressionEngine Easy iCalendar plugin//NONSGML v1.1.1//EN
BEGIN:VEVENT
UID:event
LOCATION:The Heyman Center\, Second Floor Common Room
DTSTAMP:20210221T33800Z
DTSTART;TZID=America/New_York:20111209T93000
DTEND;TZID=America/New_York:20111210T000000
SUMMARY:Golden Ages: Universal Histories and the Origins of Scienceâ
 €”a two-day conference
DESCRIPTION:This two-day conference will feature Cemil Aydin\, Deborah Co
 en\, James Delbourgo\, Marwa Elshakry\, Cathy Gere\, George Sali
 ba\, Steven Shapin\, Pamela Smith\, Geert Somsen\, and others.
END:VEVENT
END:VCALENDAR