BEGIN:VCALENDAR
VERSION:2.0
PRODID:-//ExpressionEngine Easy iCalendar plugin//NONSGML v1.1.1//EN
BEGIN:VEVENT
UID:event
LOCATION:The Heyman Center\, Second Floor Common Room
DTSTAMP:20210221T33200Z
DTSTART;TZID=America/New_York:20190128T181500
DTEND;TZID=America/New_York:
SUMMARY:Critical Humanism and Speculative Literary Totalities
DESCRIPTION:A talk by Ben Etherington\, Associate Professor in the School
  of Humanities and Communication Arts and a member of the Wr
 iting and Society Research Centre at Western Sydney Universi
 ty. The consideration of the totality of verbal arts (“wor
 ld literature”) risks being separated into brute data and 
 incommensurable particulars. To understand the unity which r
 ecent developments have rent apart this paper will revisit t
 he tradition of critical humanist scholarship dedicated to t
 hinking literary totality. 
END:VEVENT
END:VCALENDAR