BEGIN:VCALENDAR
VERSION:2.0
PRODID:-//ExpressionEngine Easy iCalendar plugin//NONSGML v1.1.1//EN
BEGIN:VEVENT
UID:event
LOCATION:Lynn Chu room in Milstein Center\, Barnard
DTSTAMP:20210221T33200Z
DTSTART;TZID=America/New_York:20190306T173000
DTEND;TZID=America/New_York:
SUMMARY:Let’s Tell This Story Properly
DESCRIPTION:Contemporary African Fiction: Let's Tell This Story Properly
END:VEVENT
END:VCALENDAR