BEGIN:VCALENDAR
VERSION:2.0
PRODID:-//ExpressionEngine Easy iCalendar plugin//NONSGML v1.1.1//EN
BEGIN:VEVENT
UID:event
LOCATION:The Heyman Center\, Second Floor Common Room
DTSTAMP:20210221T33700Z
DTSTART;TZID=America/New_York:20190312T181500
DTEND;TZID=America/New_York:
SUMMARY:Celebrating Recent Work by Will Slauter
DESCRIPTION:New Books in the Society of Fellows:\n\nCelebrating Recent Wor
 k by Will Slauter
END:VEVENT
END:VCALENDAR