BEGIN:VCALENDAR
VERSION:2.0
PRODID:-//ExpressionEngine Easy iCalendar plugin//NONSGML v1.1.1//EN
BEGIN:VEVENT
UID:event
LOCATION:Columbia Global Centers | Paris
DTSTAMP:20210221T33200Z
DTSTART;TZID=America/New_York:20190614T90000
DTEND;TZID=America/New_York:20190615T000000
SUMMARY:CHCI Medical Humanities Summer Institute: “Health Beyond B
 orders”
DESCRIPTION:This conference explores the interdisciplinary facets of the
  border\, from the metaphorical to the political: What counts
  as a border in an embodied\, geographical\, legal\, or artisti
 c context? What are the debates around borders in medical pr
 actice\, from hospitalist medicine to epidemiology? How and w
 hy do health practitioners refer to the border for its rheto
 rical power\, and how does the border work productively as a 
 figure in narrative medicine\, medical memoirs\, and creative 
 literature? What are the processes and structures that defin
 e well-being across borders\, from nationalist immigration po
 licies to environmental protections? How do we understand ef
 forts to confront\, dismantle\, or transcend borders in health
 care? What role do borders play in the formation of state-sa
 nctioned health policies\, and how might these enable or obst
 ruct initiatives in global health? And how might the concept
  of the boundary reshape our visions of a future health beyo
 nd borders? 
END:VEVENT
END:VCALENDAR