BEGIN:VCALENDAR
VERSION:2.0
PRODID:-//ExpressionEngine Easy iCalendar plugin//NONSGML v1.1.1//EN
BEGIN:VEVENT
UID:event
LOCATION:The Italian Academy
DTSTAMP:20210221T33100Z
DTSTART;TZID=America/New_York:20190408T181500
DTEND;TZID=America/New_York:
SUMMARY:Out of Place: Refugees\, Immigrants\, and Storytelling
DESCRIPTION:The 2019 Edward W. Said Memorial Lecture will be given by V
 iet Thanh Nguyen. 
END:VEVENT
END:VCALENDAR