BEGIN:VCALENDAR
VERSION:2.0
PRODID:-//ExpressionEngine Easy iCalendar plugin//NONSGML v1.1.1//EN
BEGIN:VEVENT
UID:event
LOCATION:The Forum\, Manhattanville Campus
DTSTAMP:20210221T33600Z
DTSTART;TZID=America/New_York:20190206T181500
DTEND;TZID=America/New_York:
SUMMARY:Mickalene Thomas and Darnell Moore in Conversation
DESCRIPTION:The event will be a public conversation between the artist M
 ickalene Thomas and writer/activist Darnell Moore\, moderated
  by Columbia Professor Kellie Jones.
END:VEVENT
END:VCALENDAR