BEGIN:VCALENDAR
VERSION:2.0
PRODID:-//ExpressionEngine Easy iCalendar plugin//NONSGML v1.1.1//EN
BEGIN:VEVENT
UID:event
LOCATION:Columbia School of Social Work\, room 311/312
DTSTAMP:20210221T33700Z
DTSTART;TZID=America/New_York:20190218T181500
DTEND;TZID=America/New_York:
SUMMARY:Celebrating Recent Work by Bruce Western
DESCRIPTION:New Books in the Arts & Sciences and Justice Forum:\n\nCelebra
 ting Recent Work by Bruce Western
END:VEVENT
END:VCALENDAR