BEGIN:VCALENDAR
VERSION:2.0
PRODID:-//ExpressionEngine Easy iCalendar plugin//NONSGML v1.1.1//EN
BEGIN:VEVENT
UID:event
LOCATION:Barnard Hall\, Event Oval\, The Diana Center
DTSTAMP:20210221T33500Z
DTSTART;TZID=America/New_York:20190304T183000
DTEND;TZID=America/New_York:
SUMMARY:Celebrating Recent Work by Saidiya Hartman
DESCRIPTION:New Books in the Arts & Sciences:\n\nCelebrating Recent Work 
 by Saidiya Hartman
END:VEVENT
END:VCALENDAR