BEGIN:VCALENDAR
VERSION:2.0
PRODID:-//ExpressionEngine Easy iCalendar plugin//NONSGML v1.1.1//EN
BEGIN:VEVENT
UID:event
LOCATION:The Heyman Center\, Second Floor Common Room
DTSTAMP:20210221T33600Z
DTSTART;TZID=America/New_York:20190403T181500
DTEND;TZID=America/New_York:
SUMMARY:Celebrating Recent Work by Murad Idris\, Jordanna Bailkin\, an
 d Ilana Feldman
DESCRIPTION:New Books in the Society of Fellows:\n\nCelebrating Recent Wor
 k by Murad Idris\, Jordanna Bailkin and Ilana Feldman
END:VEVENT
END:VCALENDAR