BEGIN:VCALENDAR
VERSION:2.0
PRODID:-//ExpressionEngine Easy iCalendar plugin//NONSGML v1.1.1//EN
BEGIN:VEVENT
UID:event
LOCATION:Jerome Greene Hall (Law School)\, Jerome Greene Annex
DTSTAMP:20210221T33300Z
DTSTART;TZID=America/New_York:20190124T161500
DTEND;TZID=America/New_York:20190125T000000
SUMMARY:Reframing Transgender Violence
DESCRIPTION:Reframing Transgender Violence is the final public workshop 
 of the Reframing Gendered Violence project at the Center fo
 r the Study of Social Difference at Columbia University. R
 eframing Gendered Violence opens up a critical global conve
 rsation among scholars and practitioners that recasts the pr
 oblem of violence against women as it is currently discussed
  in a wide range of fields\, both academic and policy-oriente
 d\, including human rights\, public health\, journalism\, law\, f
 eminist studies\, literature\, sociology\, religious studies\, a
 nthropology\, and history.
END:VEVENT
END:VCALENDAR