BEGIN:VCALENDAR
VERSION:2.0
PRODID:-//ExpressionEngine Easy iCalendar plugin//NONSGML v1.1.1//EN
BEGIN:VEVENT
UID:event
LOCATION:\, Buell Hall\, East Gallery
DTSTAMP:20210221T32900Z
DTSTART;TZID=America/New_York:20190328T181500
DTEND;TZID=America/New_York:
SUMMARY:Lipstick Lobotomy: A Dramatic Reading
DESCRIPTION:Lipstick Lobotomy imagines the playwright’s great aunt Gi
 nny and JFK’s little sister Rosemary Kennedy meeting at an
  exclusive high-end sanitarium for women in the fall of 1941
 . Ginny is desperate to be friends with the charismatic and 
 stylish Rosemary and is not satisfied with the talk therapy 
 at the Institute and pressures her doctors for more aggressi
 ve treatment. Meanwhile\, Rosemary\, forced into the institute
  by her famous family because of her intellectual disability
 \, keeps trying to escape. Their friendship blossoms as Ginny
  tirelessly pursues increasingly aggressive medical interven
 tion.  
END:VEVENT
END:VCALENDAR