BEGIN:VCALENDAR
VERSION:2.0
PRODID:-//ExpressionEngine Easy iCalendar plugin//NONSGML v1.1.1//EN
BEGIN:VEVENT
UID:event
LOCATION:Schermerhorn Hall\, 754 Schermerhorn Extension
DTSTAMP:20210221T32900Z
DTSTART;TZID=America/New_York:20190219T170000
DTEND;TZID=America/New_York:
SUMMARY:Lecture by Dr. Kim Tallbear
DESCRIPTION:Lecture by Dr. Kim Tallbear
END:VEVENT
END:VCALENDAR