BEGIN:VCALENDAR
VERSION:2.0
PRODID:-//ExpressionEngine Easy iCalendar plugin//NONSGML v1.1.1//EN
BEGIN:VEVENT
UID:event
LOCATION:The Heyman Center\, Second Floor Common Room
DTSTAMP:20210221T33400Z
DTSTART;TZID=America/New_York:20190214T181500
DTEND;TZID=America/New_York:
SUMMARY:Toward a Geolinguistic Imagination | Global Language Justice
  Seminar With Mary Louise Pratt
DESCRIPTION:What is the relation between biodiversity and linguistic div
 ersity?  Why are the two concentrated in the same parts of 
 the planet?  Languages disappear only through a process of 
 being replaced by other languages. Can species extinction be
  thought of this way?  What makes it possible/impossible\, o
 r desirable/undesirable for collectivities to retain their l
 anguages? What does linguistic justice consist of? Does it i
 nclude the right of access to languages of power\, even if th
 at access endangers “mother tongues”? How do people who 
 have experienced language loss talk about it?
END:VEVENT
END:VCALENDAR