BEGIN:VCALENDAR
VERSION:2.0
PRODID:-//ExpressionEngine Easy iCalendar plugin//NONSGML v1.1.1//EN
BEGIN:VEVENT
UID:event
LOCATION:The Heyman Center\, Second Floor Common Room
DTSTAMP:20210221T33500Z
DTSTART;TZID=America/New_York:20190429T163000
DTEND;TZID=America/New_York:
SUMMARY:Global Language Justice in Action: Theory\, Practice\, and Per
 formance
DESCRIPTION:with Michele Moody-Adams (Philosophy - Columbia University)
 \, Akeel Bilgrami (Philosophy - Columbia University)\, and 
 Jane Anderson (Anthropology and Museum Studies - NYU)
END:VEVENT
END:VCALENDAR