BEGIN:VCALENDAR
VERSION:2.0
PRODID:-//ExpressionEngine Easy iCalendar plugin//NONSGML v1.1.1//EN
BEGIN:VEVENT
UID:event
LOCATION:Maison Francaise
DTSTAMP:20210221T33700Z
DTSTART;TZID=America/New_York:20190204T180000
DTEND;TZID=America/New_York:
SUMMARY:Celebrating Recent Work by Sheri Berman
DESCRIPTION:New Books in the Arts and Sciences:\n\nCelebrating Recent Work
  by Sheri Berman
END:VEVENT
END:VCALENDAR