BEGIN:VCALENDAR
VERSION:2.0
PRODID:-//ExpressionEngine Easy iCalendar plugin//NONSGML v1.1.1//EN
BEGIN:VEVENT
UID:event
LOCATION:Jerome Greene Hall (Law School)\, Room 102B
DTSTAMP:20210221T33300Z
DTSTART;TZID=America/New_York:20190325T161500
DTEND;TZID=America/New_York:
SUMMARY:Transnational Feminist Futures
DESCRIPTION:On March 25\, 2018 from 4:15-6:16 pm\,  IRWGS will brin
 g together scholars and activists for our annual Transnat
 ional Feminist Futures roundtable conversation on transnati
 onal feminist theorizing and activism. This roundtable will 
 feature Professors Laura Briggs (UMASS-Amherst)\, Paige W
 est(Columbia/ Barnard College)\, Amina Mama (UC-Davis)\, amo
 ng others.  Participants will explore the ways that transn
 ational feminist theorizing and practices transform and reim
 agine contestations over issues such as human rights\, constr
 uctions of patriarchies\, and inclusionary/exclusionary pract
 ices of race\, sexuality\, and class.\n\n 
END:VEVENT
END:VCALENDAR