BEGIN:VCALENDAR
VERSION:2.0
PRODID:-//ExpressionEngine Easy iCalendar plugin//NONSGML v1.1.1//EN
BEGIN:VEVENT
UID:event
LOCATION:The Forum (605 W. 125th St)
DTSTAMP:20210221T33500Z
DTSTART;TZID=America/New_York:20190410T190000
DTEND;TZID=America/New_York:
SUMMARY:Border People
DESCRIPTION:Based on conversations and interviews from the South Bronx h
 ousing projects\, Refugee Safe Houses on the Northern Border 
 with Canada\, and travels along the Southwestern Border and i
 nto Mexico\, Dan Hoyle's newest piece of "journalistic theate
 r" is his freshest and most urgent. Ten monologues of people
  who live on or across borders both literal and metaphorical
 \, an intimate\, raw\, poignant\, funny look at the borders we a
 ll negotiate in our everyday lives.
END:VEVENT
END:VCALENDAR