BEGIN:VCALENDAR
VERSION:2.0
PRODID:-//ExpressionEngine Easy iCalendar plugin//NONSGML v1.1.1//EN
BEGIN:VEVENT
UID:event
LOCATION:The Lantern\, Lenfest Center for the Arts
DTSTAMP:20210221T33100Z
DTSTART;TZID=America/New_York:20190313T181500
DTEND;TZID=America/New_York:
SUMMARY:The Trilling Lecture: Lydia Davis
DESCRIPTION:Lionel Trilling (1905-75)\, one of Columbia's most celebrated
  faculty members\, was among the great humanist scholars and 
 public intellectuals of the 20th century. In his memory\, the
  Heyman Center sponsors a series of intellectual conversatio
 ns\, known as the Lionel Trilling Seminars. This spring\, we w
 elcome short story writer\, novelist\, and translator Lydia D
 avis.
END:VEVENT
END:VCALENDAR