BEGIN:VCALENDAR
VERSION:2.0
PRODID:-//ExpressionEngine Easy iCalendar plugin//NONSGML v1.1.1//EN
BEGIN:VEVENT
UID:event
LOCATION:The Heyman Center\, Second Floor Common Room
DTSTAMP:20210221T33000Z
DTSTART;TZID=America/New_York:20190411T101500
DTEND;TZID=America/New_York:20190411T170000
SUMMARY:Crises of Democracy at Columbia
DESCRIPTION:This symposium is one of many discussions on the “Crises o
 f Democracy” hosted by a number of institutions in a varie
 ty of locations\, including Reid Hall in Paris and Trinity
  College Dublin.  Panelists at Columbia will discuss issue
 s affecting democracy across the globe\, including "The Popul
 ist Appeal of Strongmen\," "Weaponizing the Classics\," and "J
 ournalists at Risk." 
END:VEVENT
END:VCALENDAR