BEGIN:VCALENDAR
VERSION:2.0
PRODID:-//ExpressionEngine Easy iCalendar plugin//NONSGML v1.1.1//EN
BEGIN:VEVENT
UID:event
LOCATION:\, Deutsche Haus
DTSTAMP:20210221T32900Z
DTSTART;TZID=America/New_York:20190418T163000
DTEND;TZID=America/New_York:
SUMMARY:Translating Ovid’s Sexual Violence
DESCRIPTION:Translating Ovid’s Sexual Violence with Stephanie McCarte
 r and Jia Tolentino
END:VEVENT
END:VCALENDAR