BEGIN:VCALENDAR
VERSION:2.0
PRODID:-//ExpressionEngine Easy iCalendar plugin//NONSGML v1.1.1//EN
BEGIN:VEVENT
UID:event
LOCATION:Maison Francaise
DTSTAMP:20210221T33800Z
DTSTART;TZID=America/New_York:20190412T100000
DTEND;TZID=America/New_York:
SUMMARY:Proust 2019
DESCRIPTION:Speakers: Anne Carson\, Nicholas Dames\, Sara Danius\, Lydia Da
 vis\, Saskia Hamilton\, Andrew Holleran\, Elisabeth Ladenson\, M
 ichael Lucey\, Colm Toibin\, Caroline Weber\, Edmund White\, Mic
 hael Wood.
END:VEVENT
END:VCALENDAR