BEGIN:VCALENDAR
VERSION:2.0
PRODID:-//ExpressionEngine Easy iCalendar plugin//NONSGML v1.1.1//EN
BEGIN:VEVENT
UID:event
LOCATION:The Heyman Center\, Second Floor Common Room
DTSTAMP:20210221T33400Z
DTSTART;TZID=America/New_York:20190207T160000
DTEND;TZID=America/New_York:
SUMMARY:BODILY: The Immigrant Body in the Court of Judgment with Ami
 tava Kumar
DESCRIPTION:Dr. Amitava Kumar will read from\, and discuss\, his recent no
 vel Immigrant\, Montana. One of The New Yorker‘s Best Boo
 ks of 2018 and a New York Times Notable Book of 2018\, the 
 novel follows the protagonist Kailash on his American dream
  from a village in India to graduate school in New York\, 
 and focuses on the intersections of the sexual and the polit
 ical.
END:VEVENT
END:VCALENDAR