BEGIN:VCALENDAR
VERSION:2.0
PRODID:-//ExpressionEngine Easy iCalendar plugin//NONSGML v1.1.1//EN
BEGIN:VEVENT
UID:event
LOCATION:Lenfest Center for the Arts
DTSTAMP:20210221T33300Z
DTSTART;TZID=America/New_York:20190307T183000
DTEND;TZID=America/New_York:
SUMMARY:Max Ritvo Poetry Reading Series: Featuring Brenda Hillman
DESCRIPTION:Poet Brenda Hillman is the author of Extra Hidden Life\, a
 mong the Days\; Seasonal Works with Letters on Fire\; Practica
 l Water\; Pieces of Air in the Epic\; Cascadia\; Loose Sugar\; B
 right Existence\; Death Tractates\; Fortress\; and White Dres
 s.
END:VEVENT
END:VCALENDAR