BEGIN:VCALENDAR
VERSION:2.0
PRODID:-//ExpressionEngine Easy iCalendar plugin//NONSGML v1.1.1//EN
BEGIN:VEVENT
UID:event
LOCATION:Barnard Hall
DTSTAMP:20210221T32800Z
DTSTART;TZID=America/New_York:20190311T190000
DTEND;TZID=America/New_York:20190312T000000
SUMMARY:Moving Bodies in Translation\; La rage de vivre
DESCRIPTION:“Moving Bodies in Translation: Healing Trauma through Poli
 cy\, Politics\, ‘Artivism\,’ and the Law” and La Rage de
  vivre
END:VEVENT
END:VCALENDAR