BEGIN:VCALENDAR
VERSION:2.0
PRODID:-//ExpressionEngine Easy iCalendar plugin//NONSGML v1.1.1//EN
BEGIN:VEVENT
UID:event
LOCATION:Low Memorial Library\, Rotunda
DTSTAMP:20210221T32700Z
DTSTART;TZID=America/New_York:20190315T150000
DTEND;TZID=America/New_York:
SUMMARY:A celebration of the life of Professor Edward W. Tayler
DESCRIPTION:Please join students\, colleagues\, and friends of Lionel Tril
 ling Professor Emeritus in the Humanities Ted Tayler (1931â€
 “2018) as they share memories of his effect on their lives
END:VEVENT
END:VCALENDAR