BEGIN:VCALENDAR
VERSION:2.0
PRODID:-//ExpressionEngine Easy iCalendar plugin//NONSGML v1.1.1//EN
BEGIN:VEVENT
UID:event
LOCATION:328 Milbank Hall (3rd Floor)
DTSTAMP:20210221T33700Z
DTSTART;TZID=America/New_York:20190405T83000
DTEND;TZID=America/New_York:
SUMMARY:Religion and the Future
DESCRIPTION:The graduate students of Columbia University’s Department 
 of Religion's conference this year will explore religion and
  the future for the department’s annual graduate student c
 onference. We are interested in the points of intersection\, 
 contested and shifting boundaries\, symbiotic relationships\, 
 and antagonisms of “religion” and the “future” (broa
 dly conceived)\,  examinations of which represent a space of
  enormous potential for our discipline.
END:VEVENT
END:VCALENDAR