BEGIN:VCALENDAR
VERSION:2.0
PRODID:-//ExpressionEngine Easy iCalendar plugin//NONSGML v1.1.1//EN
BEGIN:VEVENT
UID:event
LOCATION:Low Memorial Library\, Faculty Room
DTSTAMP:20210221T33000Z
DTSTART;TZID=America/New_York:20190326T130000
DTEND;TZID=America/New_York:
SUMMARY:Agents of Change: A Symposium in Honor of Marcellus Blount
DESCRIPTION:The Committee on Equity and Diversity (CED) in Arts & Scie
 nces will celebrate the life and work of Professor Marcellu
 s Blount in Agents of Change: A Symposium in Honor of Ma
 rcellus Blount\, on Low Library\, Rotunda and Faculty Room\, Tu
 esday\, March 26\, 1:00-4:30 pm. Speakers will include Geor
 ge Aumoithe\, Sarah Cole\, Zinga Fraser\, Farah Jasmine Griffi
 n\, Jack Halberstam\, Ellie Hisama\, Jean Howard\, Dennis Mi
 tchell\, Robert O’Meally\, Rebecca Pawel\, Richard Sacks\, Jam
 es Shapiro\, Joseph Slaughter\, Alan Stewart\, Kendall Thomas\, 
 and Maya Tolstoy. This afternoon symposium will recognize
  Professor Blount's research\, teaching\, mentoring\, and activ
 ism\, and will feature a panel and a roundtable. Lloyd Knigh
 t\, Principal Dancer of the Martha Graham Dance Company\, will
  perform at the event.  
END:VEVENT
END:VCALENDAR