BEGIN:VCALENDAR
VERSION:2.0
PRODID:-//ExpressionEngine Easy iCalendar plugin//NONSGML v1.1.1//EN
BEGIN:VEVENT
UID:event
LOCATION:Hamilton Hall\, room 420
DTSTAMP:20210221T32600Z
DTSTART;TZID=America/New_York:20190409T190000
DTEND;TZID=America/New_York:
SUMMARY:Filipina Diaspora: Writing Back to Empire
DESCRIPTION:This event will take place April 9 at CSER in 420 Hamilton H
 all from 7-9pm. All the authors will be doing a reading of t
 heir work.
END:VEVENT
END:VCALENDAR