BEGIN:VCALENDAR
VERSION:2.0
PRODID:-//ExpressionEngine Easy iCalendar plugin//NONSGML v1.1.1//EN
BEGIN:VEVENT
UID:event
LOCATION:\, The Forum at Columbia University
DTSTAMP:20210221T33300Z
DTSTART;TZID=America/New_York:20190328T180000
DTEND;TZID=America/New_York:
SUMMARY:Medea on Trial: A Conversation with Margaret Atwood and Lisa
  Dwan
DESCRIPTION:This program is sponsored by the Institute for Research on W
 omen\, Gender\, and Sexuality\n\nWith support from the Office of
  the EVP for Arts & Sciences\, Columbia University School of 
 the Arts\, The Society of  Fellows and Heyman Center for the
  Humanities\, and the Department of Classics at Columbia Univ
 ersity
END:VEVENT
END:VCALENDAR