BEGIN:VCALENDAR
VERSION:2.0
PRODID:-//ExpressionEngine Easy iCalendar plugin//NONSGML v1.1.1//EN
BEGIN:VEVENT
UID:event
LOCATION:\, Fayerweather 513
DTSTAMP:20210221T33900Z
DTSTART;TZID=America/New_York:20190419T180000
DTEND;TZID=America/New_York:
SUMMARY:Aesthetic Science: a history of taste\, judgment\, and affect 
 in scientific practice
DESCRIPTION:Join historians Ardeta Gjikola and Alex Wragge-Morley as t
 hey discuss Wragge-Morley’s new book reinterpreting the ro
 le of aesthetic experience in scientific practice. To mark t
 he forthcoming publication of Aesthetic Science: Representin
 g Nature in the Royal Society of London\, 1650-1720\, Alex Wra
 gge-Morley and Ardeta Gjikola will engage in a wide-rangin
 g discussion about the place of taste\, judgment\, and sensory
  pleasure in the production of scientific knowledge.
END:VEVENT
END:VCALENDAR