BEGIN:VCALENDAR
VERSION:2.0
PRODID:-//ExpressionEngine Easy iCalendar plugin//NONSGML v1.1.1//EN
BEGIN:VEVENT
UID:event
LOCATION:The Heyman Center\, Second Floor Common Room
DTSTAMP:20210221T32800Z
DTSTART;TZID=America/New_York:20190408T160000
DTEND;TZID=America/New_York:
SUMMARY:Conversation: Viet Thanh Nguyen
DESCRIPTION:Join CSER for the latest in the Artist at the Center series\,
  as author Viet Thanh Nguyen is joined by Deborah Paredez an
 d Hang Nguyen for a conversation and Q&A.
END:VEVENT
END:VCALENDAR