BEGIN:VCALENDAR
VERSION:2.0
PRODID:-//ExpressionEngine Easy iCalendar plugin//NONSGML v1.1.1//EN
BEGIN:VEVENT
UID:event
LOCATION:\, C.V. Starr East Asian Library\, Kent Hall
DTSTAMP:20210221T33300Z
DTSTART;TZID=America/New_York:20190518T140000
DTEND;TZID=America/New_York:
SUMMARY:Celebration of Conrad Schirokauer’s Life
DESCRIPTION:Please join us to celebrate Conrad's life at a gathering o
 n May 18th at 2 PM in the main reading room of Columbia Univ
 ersity's C.V. Starr East Asian Library
END:VEVENT
END:VCALENDAR