BEGIN:VCALENDAR
VERSION:2.0
PRODID:-//ExpressionEngine Easy iCalendar plugin//NONSGML v1.1.1//EN
BEGIN:VEVENT
UID:event
LOCATION:The Andrew Freeman Home
DTSTAMP:20210221T33200Z
DTSTART;TZID=America/New_York:20190921T90000
DTEND;TZID=America/New_York:
SUMMARY:FROM THE INSIDE OUT: The Power of Language to Incarcerate
DESCRIPTION:The Confined Arts presents From the Inside Out: The Power o
 f Language to Incarcerate\, a one-day justice conference in N
 ew York City that will meet and resist linguistic methods of
  dehumanization\, which foster implicit and explicit biases a
 bout people in the criminal justice system. The mission the 
 conference is to unveil popular labels\, which are coupled wi
 th negative imagery about people in the system and provide r
 e-humanizing counter narratives using the power of storytell
 ing to highlight true-lived experiences. More specifically\, 
 the audience will engage with stigmatized labels couple with
  (mis)representative imagery and be given a historical conte
 xt of how labels foster misconceptions about incarceration a
 nd the people that are incarcerated.
END:VEVENT
END:VCALENDAR