BEGIN:VCALENDAR
VERSION:2.0
PRODID:-//ExpressionEngine Easy iCalendar plugin//NONSGML v1.1.1//EN
BEGIN:VEVENT
UID:event
LOCATION:\, The Forum\, Manhattanville Campus
DTSTAMP:20210221T33000Z
DTSTART;TZID=America/New_York:20190501T193000
DTEND;TZID=America/New_York:
SUMMARY:American Standard
DESCRIPTION:A poem by Paul Muldoon\, read by Lisa Dwan\, with a discussion
  to follow
END:VEVENT
END:VCALENDAR