BEGIN:VCALENDAR
VERSION:2.0
PRODID:-//ExpressionEngine Easy iCalendar plugin//NONSGML v1.1.1//EN
BEGIN:VEVENT
UID:event
LOCATION:\, Milbank Hall\, Ella Weed Room
DTSTAMP:20210221T33000Z
DTSTART;TZID=America/New_York:20190926T180000
DTEND;TZID=America/New_York:
SUMMARY:Celebrating Recent Work by Nara B. Milanich
DESCRIPTION:New Books in the Arts & Sciences:\n\nCelebrating Recent Work 
 by Nara B. Milanich
END:VEVENT
END:VCALENDAR