BEGIN:VCALENDAR
VERSION:2.0
PRODID:-//ExpressionEngine Easy iCalendar plugin//NONSGML v1.1.1//EN
BEGIN:VEVENT
UID:event
LOCATION:The Heyman Center\, Second Floor Common Room
DTSTAMP:20210221T33000Z
DTSTART;TZID=America/New_York:20191021T181500
DTEND;TZID=America/New_York:
SUMMARY:Celebrating Recent Work by Sharon Marcus
DESCRIPTION:New Books in the Arts & Sciences:\n\nCelebrating Recent Work 
 by Sharon Marcus
END:VEVENT
END:VCALENDAR