BEGIN:VCALENDAR
VERSION:2.0
PRODID:-//ExpressionEngine Easy iCalendar plugin//NONSGML v1.1.1//EN
BEGIN:VEVENT
UID:event
LOCATION:Miller Theatre\, Miller Theater and Riverside Church
DTSTAMP:20210221T33800Z
DTSTART;TZID=America/New_York:20191106T180000
DTEND;TZID=America/New_York:20191107T000000
SUMMARY:Theater of War
DESCRIPTION:Theater of War Productions works with leading film\, theater\,
  and television actors to present dramatic readings of semin
 al plays—from classical Greek tragedies to modern and cont
 emporary works—followed by town hall-style discussions des
 igned to confront social issues by drawing out raw and perso
 nal reactions to themes highlighted in the plays. The guided
  discussions underscore how the plays resonate with contempo
 rary audiences and invite audience members to share their pe
 rspectives and experiences\, and\, helping to break down stigm
 as\, foster empathy\, compassion\, and a deeper understanding o
 f complex issues.
END:VEVENT
END:VCALENDAR