BEGIN:VCALENDAR
VERSION:2.0
PRODID:-//ExpressionEngine Easy iCalendar plugin//NONSGML v1.1.1//EN
BEGIN:VEVENT
UID:event
LOCATION:The Lantern at Lenfest
DTSTAMP:20210221T33800Z
DTSTART;TZID=America/New_York:20190918T193000
DTEND;TZID=America/New_York:
SUMMARY:The Novel and its Discontents: A Conversation with John Banv
 ille and Richard Ford
DESCRIPTION:“Banville and Ford\, authors of many novels (The Book of Ev
 idence\, Independence Day)\, winners of many prizes (Booker\, 
 Pulitzer\, Princess of Asturias\, Prix Femina) and decades-lon
 g friends\, engage in (it's hoped) a spirited\, un-theoretical
  back 'n forth about the supposed pleasures of the text.”
END:VEVENT
END:VCALENDAR