BEGIN:VCALENDAR
VERSION:2.0
PRODID:-//ExpressionEngine Easy iCalendar plugin//NONSGML v1.1.1//EN
BEGIN:VEVENT
UID:event
LOCATION:The Heyman Center & Manuscript Library\, Columbia University
DTSTAMP:20210221T33400Z
DTSTART;TZID=America/New_York:20191011T130000
DTEND;TZID=America/New_York:
SUMMARY:Book Parts: A Conference
DESCRIPTION:Contributors to the forthcoming volume Book Parts (Oxford Un
 iversity Press) will each speak about the history and meanin
 g of different “parts” of the modern book (such as endsh
 eets\, tables of contents\, and footnotes) and the keynote spe
 aker\, Leah Price (English Department\, Rutgers)\, will respond
  to the day's papers and the volume as a whole.
END:VEVENT
END:VCALENDAR