BEGIN:VCALENDAR
VERSION:2.0
PRODID:-//ExpressionEngine Easy iCalendar plugin//NONSGML v1.1.1//EN
BEGIN:VEVENT
UID:event
LOCATION:\, Lenfest Center for the Arts (Screening Room)
DTSTAMP:20210221T33400Z
DTSTART;TZID=America/New_York:20191010T183000
DTEND;TZID=America/New_York:20191011T000000
SUMMARY:Water\, Sound\, and Indigenous Film: Ushui
DESCRIPTION:Ushui is about Sagas—women shamans—and their wisdom and 
 relation to water\; how to give birth and raise children\, to 
 sing to the spirits\, and what to do when they turn against u
 s like Shekuita\, the bad thunder that destroyed the town of 
 Kemakúmake. Produced by the Bunkuaneyuman Communications C
 ollective of indigenous Wiwa people of the Sierra Nevada de
  Santa Marta in Colombia.
END:VEVENT
END:VCALENDAR