BEGIN:VCALENDAR
VERSION:2.0
PRODID:-//ExpressionEngine Easy iCalendar plugin//NONSGML v1.1.1//EN
BEGIN:VEVENT
UID:event
LOCATION:Barnard Hall\, Sulzberger Parlor
DTSTAMP:20210221T33300Z
DTSTART;TZID=America/New_York:20190911T151500
DTEND;TZID=America/New_York:20190912T000000
SUMMARY:Ecologies of Remembrance: The Material Afterlives of Unident
 ified Death
DESCRIPTION:The news media around the Mediterranean are frequently domin
 ated by the aftermath of maritime disasters in which dozens\,
  sometimes hundreds of migrants die on the perilous crossing
  to southern Italy from North Africa. Whilst migrant death i
 s a recurring subject in academic study and journalism\, scar
 cely any research is carried out on the ground into the mate
 rial and symbolic treatment of unidentified human remains. Y
 et the social afterlife of human remains is of immense impor
 tance in the case of migrant deaths because of the ways in w
 hich they bring into focus the webs of relations in which mi
 grants are caught\, bringing together transnational kinship n
 etworks\, local landscapes\, local communities and solidarity 
 groups and wider political motivations and actions.
END:VEVENT
END:VCALENDAR