BEGIN:VCALENDAR
VERSION:2.0
PRODID:-//ExpressionEngine Easy iCalendar plugin//NONSGML v1.1.1//EN
BEGIN:VEVENT
UID:event
LOCATION:The Heyman Center\, Second Floor Common Room
DTSTAMP:20210221T32600Z
DTSTART;TZID=America/New_York:20190925T170000
DTEND;TZID=America/New_York:
SUMMARY:Jail for the Dead: How New York City Buries the Unclaimed
DESCRIPTION:What is death? And what comes after? The end of life. The en
 d of this life. Heaven. Nothingness. Ghosts\, real and imagin
 ed. Such questions\, and answers\, have often been understood 
 as quintessentially religious and quintessentially philosoph
 ical. They are also social\, cultural\, and political. Academi
 c and affective.
END:VEVENT
END:VCALENDAR