BEGIN:VCALENDAR
VERSION:2.0
PRODID:-//ExpressionEngine Easy iCalendar plugin//NONSGML v1.1.1//EN
BEGIN:VEVENT
UID:event
LOCATION:International Affairs Building\, The Kellogg Center\, Room 151
 2
DTSTAMP:20210221T33600Z
DTSTART;TZID=America/New_York:20191114T181500
DTEND;TZID=America/New_York:
SUMMARY:Celebrating Recent Work by Brendan O’Flaherty and Rajiv Se
 thi
DESCRIPTION:New Books in the Arts & Sciences:\n\nCelebrating Recent Work 
 by Brendan O'Flaherty and Rajiv Sethi
END:VEVENT
END:VCALENDAR