BEGIN:VCALENDAR
VERSION:2.0
PRODID:-//ExpressionEngine Easy iCalendar plugin//NONSGML v1.1.1//EN
BEGIN:VEVENT
UID:event
LOCATION:The Heyman Center\, Second Floor Common Room
DTSTAMP:20210221T33900Z
DTSTART;TZID=America/New_York:20191029T170000
DTEND;TZID=America/New_York:
SUMMARY:The New Humanities Faculty Salons
DESCRIPTION:The New Humanities Faculty Salons are an opportunity to meet
  the six new faculty members joining Columbia during the 201
 9-20 school year.  They will share their new research over 
 drinks and snacks\, opening conversations across the wider Hu
 manities community. 
END:VEVENT
END:VCALENDAR