BEGIN:VCALENDAR
VERSION:2.0
PRODID:-//ExpressionEngine Easy iCalendar plugin//NONSGML v1.1.1//EN
BEGIN:VEVENT
UID:event
LOCATION:Jerome Greene Hall (Law School)\, Jerome Greene Annex
DTSTAMP:20210221T32700Z
DTSTART;TZID=America/New_York:20190911T181500
DTEND;TZID=America/New_York:
SUMMARY:1/13 | IN SEARCH OF A METHOD
DESCRIPTION:In Critique 13/13\, we turn to 13 critical texts—ranging fr
 om Althusser\, Beauvoir\, Foucault\, and Freire to Adorno\, Aren
 dt\, Sartre\, Lorde\, and Said.
END:VEVENT
END:VCALENDAR