BEGIN:VCALENDAR
VERSION:2.0
PRODID:-//ExpressionEngine Easy iCalendar plugin//NONSGML v1.1.1//EN
BEGIN:VEVENT
UID:event
LOCATION:\, in Paris and online
DTSTAMP:20210221T33400Z
DTSTART;TZID=America/New_York:20191016T180000
DTEND;TZID=America/New_York:
SUMMARY:3/13 | SIMONE DE BEAUVOIR\, THE SECOND SEX
DESCRIPTION:In Critique 13/13\, we turn to 13 critical texts—ranging fr
 om Althusser\, Beauvoir\, Foucault\, and Freire to Adorno\, Aren
 dt\, Sartre\, Lorde\, and Said.
END:VEVENT
END:VCALENDAR