BEGIN:VCALENDAR
VERSION:2.0
PRODID:-//ExpressionEngine Easy iCalendar plugin//NONSGML v1.1.1//EN
BEGIN:VEVENT
UID:event
LOCATION:\, Rio Time in Rio\, Brazil (PUC-Rio University / Room: Sala K
 -102)
DTSTAMP:20210221T33000Z
DTSTART;TZID=America/New_York:20191022T180000
DTEND;TZID=America/New_York:
SUMMARY:4/13 | PAOLO FREIRE\, PEDAGOGY OF THE OPPRESSED
DESCRIPTION:In Critique 13/13\, we turn to 13 critical texts—ranging fr
 om Althusser\, Beauvoir\, Foucault\, and Freire to Adorno\, Aren
 dt\, Sartre\, Lorde\, and Said.
END:VEVENT
END:VCALENDAR